BEGIN:VCALENDAR
VERSION:2.0
PRODID:-//ChamberMaster//Event Calendar 2.0//EN
METHOD:PUBLISH
X-PUBLISHED-TTL:P3D
REFRESH-INTERVAL:P3D
CALSCALE:GREGORIAN
BEGIN:VEVENT
DTSTART:20220925T190000Z
DTEND:20220925T210000Z
X-MICROSOFT-CDO-ALLDAYEVENT:FALSE
SUMMARY:Babahatchie Sundae Concert
DESCRIPTION:Babahatchie Community Band Sundae in the Park Concert\n\n\n\nSundae in the park with the Cornstalk Heights Historical Community (CHHO) Organization at Killeffer Park.\n\n\n\nBring your chairs\, sit back and listen to some favorite songs!\n\n\n\nIce cream is provided by CHHO.\n\n\n\nAdmission is free\, donations are accepted.\n\n\n\nBabahatchie Community Band is a local concert band that has been performing for residents in Harriman for over 20 years.   We hold FREE outdoor concerts during the summer and on scheduled Sundays during the rest of the year at the Harriman High School Auditorium.
X-ALT-DESC;FMTTYPE=text/html:Babahatchie Community Band Sundae in the Park Concert<br />\n<br />\nSundae in the park with the Cornstalk Heights Historical Community (CHHO) Organization at Killeffer Park.<br />\n<br />\nBring your chairs\, sit back and listen to some favorite songs!<br />\n<br />\nIce cream is provided by CHHO.<br />\n<br />\nAdmission is free\, donations are accepted.<br />\n<br />\nBabahatchie Community Band is a local concert band that has been performing for residents in Harriman for over 20 years. &nbsp\; We hold FREE outdoor concerts during the summer and on scheduled Sundays during the rest of the year at the Harriman High School Auditorium. &nbsp\;
LOCATION:Killeffer Park 642 Cumberland Street Harriman\, TN 37748
UID:e.2172.11626
SEQUENCE:3
DTSTAMP:20260423T214333Z
URL:https://business.roanechamber.com/events/details/babahatchie-sundae-concert-11626
END:VEVENT

END:VCALENDAR
