BEGIN:VCALENDAR
VERSION:2.0
PRODID:-//ChamberMaster//Event Calendar 2.0//EN
METHOD:PUBLISH
X-PUBLISHED-TTL:P3D
REFRESH-INTERVAL:P3D
CALSCALE:GREGORIAN
BEGIN:VEVENT
DTSTART:20220426T130000Z
DTEND:20220426T193000Z
X-MICROSOFT-CDO-ALLDAYEVENT:FALSE
SUMMARY:Access Level 3 at Roane State Community College Oak Ridge Campus
DESCRIPTION:Access Level 3 at Roane State Community College - Oak Ridge Campus\n\n\n\nThis course is a flat rate fee regardless of the number of registrations purchased.
X-ALT-DESC;FMTTYPE=text/html:Access Level 3 at Roane State Community College - Oak Ridge Campus<br />\n<br />\nThis course is a flat rate fee regardless of the number of registrations purchased.
LOCATION:Roane State Community Col 37830Oak Ridge\, TN
UID:e.2172.10608
SEQUENCE:3
DTSTAMP:20260423T130130Z
URL:https://business.roanechamber.com/events/details/access-level-3-at-roane-state-community-college-oak-ridge-campus-10608
END:VEVENT

END:VCALENDAR
