BEGIN:VCALENDAR
VERSION:2.0
PRODID:-//ChamberMaster//Event Calendar 2.0//EN
METHOD:PUBLISH
X-PUBLISHED-TTL:P3D
REFRESH-INTERVAL:P3D
CALSCALE:GREGORIAN
BEGIN:VEVENT
DTSTART:20221029T220000Z
DTEND:20221030T000000Z
X-MICROSOFT-CDO-ALLDAYEVENT:FALSE
SUMMARY:2nd Annual Trunk or Treat - Express Employment Professionals
DESCRIPTION:Come join us for our 2nd Annual Trunk or Treat!!\n\n\n\nExpress Employment Professionals\n\n\n\nSaturday\, October 29\, 2022\n\n6 pm - 8 pm
X-ALT-DESC;FMTTYPE=text/html:Come join us for our 2nd Annual Trunk or Treat!!<br />\n<br />\nExpress Employment Professionals<br />\n<br />\nSaturday\, October 29\, 2022<br />\n6 pm - 8 pm<br />\n<br />\n&nbsp\;
LOCATION:Express Employment Professionals 1470 N. Gateway Ave. Rockwood\, TN 37854 Located in the shopping center with Big Lots
UID:e.2172.12702
SEQUENCE:3
DTSTAMP:20260423T232344Z
URL:https://business.roanechamber.com/events/details/2nd-annual-trunk-or-treat-express-employment-professionals-12702
END:VEVENT

END:VCALENDAR
