BEGIN:VCALENDAR
VERSION:2.0
PRODID:-//ChamberMaster//Event Calendar 2.0//EN
METHOD:PUBLISH
X-PUBLISHED-TTL:P3D
REFRESH-INTERVAL:P3D
CALSCALE:GREGORIAN
BEGIN:VEVENT
DTSTART;VALUE=DATE:20220606
DTEND;VALUE=DATE:20220607
TRANSP:TRANSPARENT
X-MICROSOFT-CDO-ALLDAYEVENT:TRUE
SUMMARY:23rd Annual Michael Dunn Foundation Golf Classic
DESCRIPTION:We are delighted to announce that the 23rd Annual Michael Dunn Foundation Golf Classic will be held at Fox Den Country Club on June 6\, 2022!  Presented by Heron-Connell and Jim and Angie Condra.\n\n\n\nRegistration begins at 11:30 am - Shotgun Start at 1:00 pm\n\n\n\nRegistration includes: Greens fee\, cart and range balls\, Premium item giveaway\, Access to silent auction\, Lunch\, dinner and awards presentation\, One-course refreshments provided. \n\n\n\n\n\nfour person scramble (2 flights) Prizes awarded to each flight\, Individual prizes awarded: Longest drive and closest to pin.   Hole in one prizes:  All expense paid trip for 2 to Pebble Beach AND a 2022 Ford Escape!  \n\n\n\nJane DeHart Memorial Putting Contest\n\n\n\nIf you would like to participate as a player\, with a team\, or would like to know more about becoming a sponsor\, contact Community Relations Coordinator\, Courtney Briley\, at courtney.briley@michaeldunncenter.org.  Sponsors will receive publicity on all social media platforms and surrounding newspapers. \n\n\n\nSponsorship Levels:  \n\nPlatinum: $5\,000\n\nGold: $3\,500\n\nSilver: $2\,500\n\n Bronze: $1\,000\n\nCart Sponsor: $1\,000\n\nHole Sponsor: $400\n\nGeneral Sponsor: $Donation\n\n\n\nPlatinum\, Gold and Silver Sponsorships include a foursome in the tournament.\n\n\n\nRegister online at www.michaeldunncenter.org\n\n\n\nWe hope to see you on the course!\n\n\n\nMichael Dunn Foundation is a 501 (c) (3) non-profit organization that exists to support children and adults with intellectual and developmental disabilities.
X-ALT-DESC;FMTTYPE=text/html:<font color="#1d2129" face="tahoma"><span style="caret-color: rgb(29\, 33\, 41)\; font-size: 14px\;">We are delighted to announce that the 23rd Annual Michael Dunn Foundation Golf Classic will be held at Fox Den Country Club on June 6\, 2022! &nbsp\;Presented by Heron-Connell and Jim and&nbsp\;Angie Condra.</span></font><br />\n<br />\n<font color="#1d2129" face="tahoma"><span style="font-size: 14px\;">Registration begins at 11:30 am - Shotgun Start at 1:00 pm</span><br />\n<br />\n<span style="font-size: 14px\;">Registration includes: Greens fee\, cart and range balls\, Premium item giveaway\, Access to silent auction\, Lunch\, dinner and awards presentation\, One-course&nbsp\;refreshments provided.&nbsp\;</span></font><br />\n<br />\n<br />\nfour person scramble (2 flights) Prizes awarded to each flight\, Individual prizes awarded: Longest drive and closest to pin. &nbsp\; Hole in one prizes: &nbsp\;All expense paid trip for 2 to Pebble Beach AND a 2022 Ford Escape! &nbsp\;<br />\n<br />\nJane DeHart Memorial Putting Contest<br />\n<br />\n<font color="#1d2129" face="tahoma"><span style="font-size: 14px\;">If you would like to participate as a player\, with a team\, or would like to know more about becoming a sponsor\, contact Community Relations Coordinator\, Courtney Briley\, at courtney.briley@michaeldunncenter.org. &nbsp\;Sponsors will receive publicity on all social media platforms and surrounding newspapers.&nbsp\;</span><br />\n<br />\n<span style="font-size: 14px\;">Sponsorship Levels: &nbsp\;</span><br />\n<span style="font-size: 14px\;">Platinum: $5\,000</span><br />\n<span style="font-size: 14px\;">Gold: $3\,500</span><br />\n<span style="font-size: 14px\;">Silver: $2\,500</span><br />\n<span style="font-size: 14px\;">&#8203\;Bronze: $1\,000<br />\nCart Sponsor: $1\,000<br />\nHole Sponsor: $400<br />\nGeneral Sponsor: $Donation</span><br />\n<br />\n<span style="font-size: 14px\;">Platinum\, Gold and Silver Sponsorships include a foursome in the tournament.<br />\n<br />\nRegister online at www.michaeldunncenter.org</span></font><br />\n<br />\n<font color="#1d2129" face="tahoma"><span style="caret-color: rgb(29\, 33\, 41)\; font-size: 14px\;">We hope to see you on the course!<br />\n<br />\nMichael Dunn Foundation is a 501 (c) (3) non-profit organization that exists to support children and adults with intellectual and developmental disabilities.&nbsp\;</span></font>
LOCATION:Fox Den Country Club 12284 North Fox Den Dr. Knoxville\, TN 37934
UID:e.2172.10526
SEQUENCE:3
DTSTAMP:20260423T162510Z
URL:https://business.roanechamber.com/events/details/23rd-annual-michael-dunn-foundation-golf-classic-10526
END:VEVENT

END:VCALENDAR
