BEGIN:VCALENDAR
VERSION:2.0
PRODID:-//ChamberMaster//Event Calendar 2.0//EN
METHOD:PUBLISH
X-PUBLISHED-TTL:P3D
REFRESH-INTERVAL:P3D
CALSCALE:GREGORIAN
BEGIN:VEVENT
DTSTART;VALUE=DATE:20221005
DTEND;VALUE=DATE:20221006
TRANSP:TRANSPARENT
X-MICROSOFT-CDO-ALLDAYEVENT:TRUE
SUMMARY:2022 Roane County Teacher's Supply Closet
DESCRIPTION:2022 Teachers Supply Closet sponsored by United Way Roane County\n\n\n\nItems or monetary donations are being requested to help Roane County teachers and students have necessary school supplies.\n\n\n\nDrop off supply donations at:\n\n	Roane County United Way\n	The Roane Alliance\n	Harriman Public Library\n	Rockwood Public Library\n	Tennessee College of Applied Technology (TCAT)\n\nNEEDED:\n\n\n	#2 pencils\n	glitter pens\n	glue sticks\n	construction paper\n	notebook paper\n	dry erase markers\n	crayons\n	hand sanitizer\n	disinfectant wipes\n	rulers\n	plastic pencil boxes\n	hard back journals\n	spiral notebooks\n	paper towels\n	bulletin board borders\n	file folders\n	accordion folders\n	scissors\n\nMonetary donations: Checks to:\n\nUnited Way Roane County\n\nP.O. Box 317\n\nHarriman\, TN 37748\n\n\n\nYou may also donated through PayPal by going to our website: unitedwayroane.org and specifying Teacher's Supply Closet in the note section of PayPal.
X-ALT-DESC;FMTTYPE=text/html:2022 Teachers Supply Closet sponsored by United Way Roane County<br>\n<br>\nItems or monetary donations are being requested to help Roane County teachers and students have necessary school supplies.<br>\n<br>\nDrop off supply donations at:\n<ul>\n	<li>Roane County United Way</li>\n	<li>The Roane Alliance</li>\n	<li>Harriman Public Library</li>\n	<li>Rockwood Public Library</li>\n	<li>Tennessee College of Applied Technology (TCAT)</li>\n</ul>\nNEEDED:\n\n<ul>\n	<li>#2 pencils</li>\n	<li>glitter pens</li>\n	<li>glue sticks</li>\n	<li>construction paper</li>\n	<li>notebook paper</li>\n	<li>dry erase markers</li>\n	<li>crayons</li>\n	<li>hand sanitizer</li>\n	<li>disinfectant wipes</li>\n	<li>rulers</li>\n	<li>plastic pencil boxes</li>\n	<li>hard back journals</li>\n	<li>spiral notebooks</li>\n	<li>paper towels</li>\n	<li>bulletin board borders</li>\n	<li>file folders</li>\n	<li>accordion folders</li>\n	<li>scissors</li>\n</ul>\nMonetary donations: Checks to:<br>\nUnited Way Roane County<br>\nP.O. Box 317<br>\nHarriman\, TN 37748<br>\n<br>\nYou may also donated through PayPal by going to our website: unitedwayroane.org and specifying Teacher's Supply Closet in the note section of PayPal.
LOCATION:Drop off supply donations at: Roane County United Way - 431 Devonia St.\, Harriman\, TN 37748 Harriman Public Library - 601 Walden Ave.\, Harriman\, TN 37748 Rockwood Public Library - 117 N. Front St.\, Harriman\, TN 37748 Tennessee College of Applied Technology (TCAT) - 1745 Harriman Hwy. Harriman\, TN 37748 The Roane Alliance - 1209 N. Kentucky St.\, Kingston\, TN 37763
UID:e.2172.11651
SEQUENCE:3
DTSTAMP:20260423T232339Z
URL:https://business.roanechamber.com/events/details/2022-roane-county-teacher-s-supply-closet-10-05-2022-11651
END:VEVENT

END:VCALENDAR
