BEGIN:VCALENDAR
VERSION:2.0
PRODID:-//ChamberMaster//Event Calendar 2.0//EN
METHOD:PUBLISH
X-PUBLISHED-TTL:P3D
REFRESH-INTERVAL:P3D
CALSCALE:GREGORIAN
BEGIN:VEVENT
DTSTART:20220925T200000Z
DTEND:20220926T000000Z
X-MICROSOFT-CDO-ALLDAYEVENT:FALSE
SUMMARY:2022 Bluegrass & BBQ Festival - The Grove Baptist Church
DESCRIPTION:2022 Bluegrass & BBQ Festival\n\n\n\nJoin us at The Grove for our annual Bluegrass & BBQ Festival!\n\n\n\nAt the 2022 Bluegrass & BBQ Festival we will have local vendors\, live music (6 pm - 8 pm) and plenty of fun for the whole family on Sunday\, September 25 from 4 pm. to 8 pm.\n\n\n\nLive music from A Brand New Box of Matches\n\n\n\nThis is a free community event and open to the public\, so everyone is welcome!\n\n\n\nFor more details on this event and other upcoming events at The Grove visit our website www.ilovemygrove.com/events\n\n\n\nPlease contact Kara Clayton at rowintn@bellsouth.net if you would like to be a vendor at this event.
X-ALT-DESC;FMTTYPE=text/html:2022 Bluegrass &amp\; BBQ Festival<br />\n<br />\nJoin us at The Grove for our annual Bluegrass &amp\; BBQ Festival!<br />\n<br />\nAt the 2022 Bluegrass &amp\; BBQ Festival we will have local vendors\, live music (6 pm - 8 pm) and plenty of fun for the whole family on Sunday\, September 25 from 4 pm. to 8 pm.<br />\n<br />\nLive music from A Brand New Box of Matches<br />\n<br />\nThis is a free community event and open to the public\, so everyone is welcome!<br />\n<br />\nFor more details on this event and other upcoming events at The Grove visit our website www.ilovemygrove.com/events<br />\n<br />\nPlease contact Kara Clayton at rowintn@bellsouth.net if you would like to be a vendor at this event.
LOCATION:The Grove Baptist Church 2150 Kingston Hwy. Kingston\, TN 37763-4832
UID:e.2172.10905
SEQUENCE:3
DTSTAMP:20260423T200541Z
URL:https://business.roanechamber.com/events/details/2022-bluegrass-bbq-festival-the-grove-baptist-church-10905
END:VEVENT

END:VCALENDAR
