BEGIN:VCALENDAR
VERSION:2.0
PRODID:-//ChamberMaster//Event Calendar 2.0//EN
METHOD:PUBLISH
X-PUBLISHED-TTL:P3D
REFRESH-INTERVAL:P3D
CALSCALE:GREGORIAN
BEGIN:VEVENT
DTSTART:20260124T000000Z
DTEND:20260124T020000Z
X-MICROSOFT-CDO-ALLDAYEVENT:FALSE
SUMMARY:ThunderBeard: Tribute to ZZ Top
DESCRIPTION:ThunderBeard: A Tribute to ZZ Top RETURNS to the Princess Theatre\n\n\n\nFriday\, January 23\, 2026 - 7:00 pm\n\n\n\n2 hours of ZZ Top's best hits.with the #1 Tribute to "That Little Ol' Band from Texas".
X-ALT-DESC;FMTTYPE=text/html:<br />\nThunderBeard: A Tribute to ZZ Top RETURNS to the Princess Theatre<br />\n<br />\nFriday\, January 23\, 2026 - 7:00 pm<br />\n<br />\n2 hours of ZZ Top&#39\;s best hits.with the #1 Tribute to &quot\;That Little Ol&#39\; Band from Texas&quot\;.<br />\n<br />\n&nbsp\;
LOCATION:Princess Theatre 421 N. Roane St. Harriman\, TN 37748
UID:e.2172.25687
SEQUENCE:3
DTSTAMP:20260422T080335Z
URL:http://business.roanechamber.com/events/details/thunderbeard-tribute-to-zz-top-25687
END:VEVENT

END:VCALENDAR
