BEGIN:VCALENDAR
VERSION:2.0
PRODID:-//ChamberMaster//Event Calendar 2.0//EN
METHOD:PUBLISH
X-PUBLISHED-TTL:P3D
REFRESH-INTERVAL:P3D
CALSCALE:GREGORIAN
BEGIN:VEVENT
DTSTART:20260502T220000Z
DTEND:20260503T010000Z
X-MICROSOFT-CDO-ALLDAYEVENT:FALSE
SUMMARY:The Summer Sessions | Erick Baker & Westwend
DESCRIPTION:ORNL Federal Credit Union presents\, The Summer Sessions! This concert will be held outdoors at the amphitheater in AK Bissell Park\, and is FREE to the public. Entertainment will be provided by Erick Baker & Westwend. Bring your lawn chairs\, your friends\, and family for an evening of free Americana roots music. A beer tent benefitting United Way of Anderson County will be on-site along with local food truck vendors\, including: Shirley's Boy Country Cooking ??\, Hot Dog Hut ??\, Big Back BBQ ??\, and Irvey's Ice Cream ??! For more information\, visit: thesummersessions.com.
X-ALT-DESC;FMTTYPE=text/html:ORNL Federal Credit Union presents\, The Summer Sessions! This concert will be held outdoors at the amphitheater in AK Bissell Park\, and is FREE to the public. Entertainment will be provided by Erick Baker &amp\; Westwend. Bring your lawn chairs\, your friends\, and family for an evening of free Americana roots music. A beer tent benefitting United Way of Anderson County will be on-site along with local food truck vendors\, including: Shirley&#39\;s Boy Country Cooking ??\, Hot Dog Hut ??\, Big Back BBQ ??\, and Irvey&#39\;s Ice Cream ??! For more information\, visit: thesummersessions.com.
LOCATION:AK Bissell Park 1401 Oak Ridge Turnpike Oak Ridge\, TN 37830
UID:e.2172.25884
SEQUENCE:3
DTSTAMP:20260422T031903Z
URL:http://business.roanechamber.com/events/details/the-summer-sessions-erick-baker-westwend-25884
END:VEVENT

END:VCALENDAR
