BEGIN:VCALENDAR
VERSION:2.0
PRODID:-//ChamberMaster//Event Calendar 2.0//EN
METHOD:PUBLISH
X-PUBLISHED-TTL:P3D
REFRESH-INTERVAL:P3D
CALSCALE:GREGORIAN
BEGIN:VEVENT
DTSTART:20260228T170000Z
DTEND:20260228T210000Z
X-MICROSOFT-CDO-ALLDAYEVENT:FALSE
SUMMARY:Superhero and Princess Day
DESCRIPTION:Harriman's Superhero and Princess Day invites families to step into a world where heroes and royalty come together for an unforgettable experience.   Join us at Gate Hall Event Venue\, located at 408 N. Roane Street in Harriman\, for an interactive celebration filled with music\, dancing\, character meet-and-greets\, and magical moments for kids of all ages.\n\n\n\nMeet your favorite Marvel and DC superheroes alongside beloved Disney princesses during one of two available time slots: 12:00 pm and 2:30 pm.\n\n\n\nPrincess and Superhero attire is encouraged-capes\, crowns\, and heroic outfits are welcome. \n\n\n\nTicket information:\n\n$15 per child (under 18)\n\n$10 adult admission\n\nFree for children under 1 year old\n\n\n\nTickets are available at Eventbrite.com\n\nLimited tickets available.  No tickets sold at door.  Ticket sales end 2/25/1016.the
X-ALT-DESC;FMTTYPE=text/html:<br />\nHarriman&#39\;s Superhero and Princess Day invites families to step into a world where heroes and royalty come together for an unforgettable experience.&nbsp\; &nbsp\;Join us at Gate Hall Event Venue\, located at 408 N. Roane Street in Harriman\, for an interactive celebration filled with music\, dancing\, character meet-and-greets\, and magical moments for kids of all ages.<br />\n<br />\nMeet your favorite Marvel and DC superheroes alongside beloved Disney princesses during one of two available time slots: 12:00 pm and 2:30 pm.<br />\n<br />\nPrincess and Superhero attire is encouraged-capes\, crowns\, and heroic outfits are welcome.&nbsp\;<br />\n<br />\nTicket information:<br />\n$15 per child (under 18)<br />\n$10 adult admission<br />\nFree for children under 1 year old<br />\n<br />\nTickets are available at Eventbrite.com<br />\nLimited tickets available.&nbsp\; No tickets sold at door.&nbsp\; Ticket sales end 2/25/1016.the&nbsp\;
LOCATION:Gates Hall Event Venue 408 N. Roane St. Harriman\, TN 37748
UID:e.2172.25689
SEQUENCE:3
DTSTAMP:20260422T050643Z
URL:http://business.roanechamber.com/events/details/superhero-and-princess-day-25689
END:VEVENT

END:VCALENDAR
