BEGIN:VCALENDAR
VERSION:2.0
PRODID:-//ChamberMaster//Event Calendar 2.0//EN
METHOD:PUBLISH
X-PUBLISHED-TTL:P3D
REFRESH-INTERVAL:P3D
CALSCALE:GREGORIAN
BEGIN:VEVENT
DTSTART:20260226T223000Z
DTEND:20260227T013000Z
X-MICROSOFT-CDO-ALLDAYEVENT:FALSE
SUMMARY:Social Media Marketing Class
DESCRIPTION:Social Media Marketing Class\n\n\n\nFebruary 26\, 2026 - 5:30 pm - 8:30 pm\n\n\n\nRoane State Community College Oak Ridge Campus\n\n\n\nCost is $49\n\n\n\nFor more information\, contact:  Missy Cooper at coopermj2@roanestate.edu
X-ALT-DESC;FMTTYPE=text/html:<br />\nSocial Media Marketing Class<br />\n<br />\nFebruary 26\, 2026 - 5:30 pm - 8:30 pm<br />\n<br />\nRoane State Community College Oak Ridge Campus<br />\n<br />\nCost is $49<br />\n<br />\nFor more information\, contact:&nbsp\; Missy Cooper at coopermj2@roanestate.edu
LOCATION:Roane State Community College Oak Ridge Campus 721 Briarcliff Ave. Oak Ridge\, TN 37830
UID:e.2172.25680
SEQUENCE:3
DTSTAMP:20260422T050643Z
URL:http://business.roanechamber.com/events/details/social-media-marketing-class-25680
END:VEVENT

END:VCALENDAR
