BEGIN:VCALENDAR
VERSION:2.0
PRODID:-//ChamberMaster//Event Calendar 2.0//EN
METHOD:PUBLISH
X-PUBLISHED-TTL:P3D
REFRESH-INTERVAL:P3D
CALSCALE:GREGORIAN
BEGIN:VEVENT
DTSTART:20260207T130000Z
DTEND:20260207T160000Z
X-MICROSOFT-CDO-ALLDAYEVENT:FALSE
SUMMARY:Rotary Club of Kingston 45th Annual Pancake Breakfast
DESCRIPTION:Rotary Club of Kingston 45th Annual Pancake Breakfast and Silent Auction\n\n\n\nSaturday\, February 7\, 2026 - 8 am - 11 am\n\n\n\nCome and enjoy a delicious pancake breakfast with ALL the fixins!\n\n\n\nTickets $5 Each
X-ALT-DESC;FMTTYPE=text/html:<br />\nRotary Club of Kingston 45th Annual Pancake Breakfast and Silent Auction<br />\n<br />\nSaturday\, February 7\, 2026 - 8 am - 11 am<br />\n<br />\nCome and enjoy a delicious pancake breakfast with ALL the fixins!<br />\n<br />\nTickets $5 Each
LOCATION:Kingston United Methodist Church Fellowship Hall 212 W. Church St. Kingston\, TN 37763
UID:e.2172.25688
SEQUENCE:3
DTSTAMP:20260422T050937Z
URL:http://business.roanechamber.com/events/details/rotary-club-of-kingston-45th-annual-pancake-breakfast-25688
END:VEVENT

END:VCALENDAR
