BEGIN:VCALENDAR
VERSION:2.0
PRODID:-//ChamberMaster//Event Calendar 2.0//EN
METHOD:PUBLISH
X-PUBLISHED-TTL:P3D
REFRESH-INTERVAL:P3D
CALSCALE:GREGORIAN
BEGIN:VEVENT
DTSTART:20260417T220000Z
DTEND:20260418T010000Z
X-MICROSOFT-CDO-ALLDAYEVENT:FALSE
SUMMARY:Roane Gala 2026
DESCRIPTION:Roane Alliance Gala 2026\n\n\n\nApril 17th\, 2026\n\n6:00-9:00pm
X-ALT-DESC;FMTTYPE=text/html:Roane Alliance Gala 2026<br />\n<br />\nApril 17th\, 2026<br />\n6:00-9:00pm
LOCATION:The Barn at Maple Creek 107 Gallaher Road Kingston\, TN 37763
UID:e.2172.25681
SEQUENCE:3
DTSTAMP:20260422T033551Z
URL:http://business.roanechamber.com/events/details/roane-gala-2026-25681
END:VEVENT

END:VCALENDAR
