BEGIN:VCALENDAR
VERSION:2.0
PRODID:-//ChamberMaster//Event Calendar 2.0//EN
METHOD:PUBLISH
X-PUBLISHED-TTL:P3D
REFRESH-INTERVAL:P3D
CALSCALE:GREGORIAN
BEGIN:VEVENT
DTSTART:20260307T130000Z
DTEND:20260307T160000Z
X-MICROSOFT-CDO-ALLDAYEVENT:FALSE
SUMMARY:Roane County Rescue Squad Pancake Breakfast Fundraiser
DESCRIPTION:Join us for a delicious Pancake Breakfast hosted by the Roane County Rescue Squad on March 7 from 8:00 AM to 11:00 AM! We'll be serving up hot\, fluffy pancakes with savory sausage and crispy bacon   the perfect way to start your morning. Bring your family and friends out for great food and great company while supporting your local rescue squad. We look forward to seeing you there! ???? Parking Instructions: Please park in the front of the building\, where you will see a flagpole. Kindly avoid parking in front of the large bay doors to ensure our emergency vehicles have clear access.
X-ALT-DESC;FMTTYPE=text/html:Join us for a delicious Pancake Breakfast hosted by the Roane County Rescue Squad on March 7 from 8:00 AM to 11:00 AM! We&rsquo\;ll be serving up hot\, fluffy pancakes with savory sausage and crispy bacon &mdash\; the perfect way to start your morning. Bring your family and friends out for great food and great company while supporting your local rescue squad. We look forward to seeing you there! ???? Parking Instructions: Please park in the front of the building\, where you will see a flagpole. Kindly avoid parking in front of the large bay doors to ensure our emergency vehicles have clear access.
LOCATION:2735 Roane State Highway Harriman\, TN 37748
UID:e.2172.25848
SEQUENCE:3
DTSTAMP:20260422T050644Z
URL:http://business.roanechamber.com/events/details/roane-county-rescue-squad-pancake-breakfast-fundraiser-03-07-2026-25848
END:VEVENT

END:VCALENDAR
