BEGIN:VCALENDAR
VERSION:2.0
PRODID:-//ChamberMaster//Event Calendar 2.0//EN
METHOD:PUBLISH
X-PUBLISHED-TTL:P3D
REFRESH-INTERVAL:P3D
CALSCALE:GREGORIAN
BEGIN:VEVENT
DTSTART:20260606T130000Z
DTEND:20260606T210000Z
X-MICROSOFT-CDO-ALLDAYEVENT:FALSE
SUMMARY:ROAM'R Poker Run
DESCRIPTION:ROAM'R Poker Run\n\nSaturday\, June 6\, 2026\n\nStarts at Fort Southwest Point\n\nCofer's Garage - Roco Social - Devaney's Eats and Treats - MOCO Brewing Project\n\nEnds at Historic Brushy Mountain State Penitentiary with a FREE Concert\n\n$20 Entry Fee Per Hand - Card Pick-up 9:00 -11:00 am - Cards due by 5:00 pm\n\n$500 Cash Prize
X-ALT-DESC;FMTTYPE=text/html:<p style="background-image: none\; background-position: initial\; background-size: initial\; background-repeat: initial\; background-attachment: initial\; background-origin: initial\; background-clip: initial\; border: none\; color: rgb(51\, 51\, 51)\; font-variant-numeric: inherit\; font-variant-east-asian: inherit\; font-variant-alternates: inherit\; font-variant-position: inherit\; font-variant-emoji: inherit\; font-stretch: inherit\; font-size: 14px\; line-height: 25px\; font-family: Montserrat\, sans-serif\; font-optical-sizing: inherit\; font-size-adjust: inherit\; font-kerning: inherit\; font-feature-settings: inherit\; font-variation-settings: inherit\; font-language-override: inherit\; margin: 1em 0px\; outline: none\; padding: 0px\; vertical-align: baseline\; letter-spacing: 0px\; text-align: center\;">ROAM&#39\;R Poker Run</p>\n\n<p style="background-image: none\; background-position: initial\; background-size: initial\; background-repeat: initial\; background-attachment: initial\; background-origin: initial\; background-clip: initial\; border: none\; color: rgb(51\, 51\, 51)\; font-variant-numeric: inherit\; font-variant-east-asian: inherit\; font-variant-alternates: inherit\; font-variant-position: inherit\; font-variant-emoji: inherit\; font-stretch: inherit\; font-size: 14px\; line-height: 25px\; font-family: Montserrat\, sans-serif\; font-optical-sizing: inherit\; font-size-adjust: inherit\; font-kerning: inherit\; font-feature-settings: inherit\; font-variation-settings: inherit\; font-language-override: inherit\; margin: 1em 0px\; outline: none\; padding: 0px\; vertical-align: baseline\; letter-spacing: 0px\; text-align: center\;">Saturday\, June 6\, 2026</p>\n\n<p style="background-image: none\; background-position: initial\; background-size: initial\; background-repeat: initial\; background-attachment: initial\; background-origin: initial\; background-clip: initial\; border: none\; color: rgb(51\, 51\, 51)\; font-variant-numeric: inherit\; font-variant-east-asian: inherit\; font-variant-alternates: inherit\; font-variant-position: inherit\; font-variant-emoji: inherit\; font-stretch: inherit\; font-size: 14px\; line-height: 25px\; font-family: Montserrat\, sans-serif\; font-optical-sizing: inherit\; font-size-adjust: inherit\; font-kerning: inherit\; font-feature-settings: inherit\; font-variation-settings: inherit\; font-language-override: inherit\; margin: 1em 0px\; outline: none\; padding: 0px\; vertical-align: baseline\; letter-spacing: 0px\; text-align: center\;">Starts at Fort Southwest Point<br />\nCofer&#39\;s Garage - Roco Social - Devaney&#39\;s Eats and Treats - MOCO Brewing Project</p>\n\n<p style="background-image: none\; background-position: initial\; background-size: initial\; background-repeat: initial\; background-attachment: initial\; background-origin: initial\; background-clip: initial\; border: none\; color: rgb(51\, 51\, 51)\; font-variant-numeric: inherit\; font-variant-east-asian: inherit\; font-variant-alternates: inherit\; font-variant-position: inherit\; font-variant-emoji: inherit\; font-stretch: inherit\; font-size: 14px\; line-height: 25px\; font-family: Montserrat\, sans-serif\; font-optical-sizing: inherit\; font-size-adjust: inherit\; font-kerning: inherit\; font-feature-settings: inherit\; font-variation-settings: inherit\; font-language-override: inherit\; margin: 1em 0px\; outline: none\; padding: 0px\; vertical-align: baseline\; letter-spacing: 0px\; text-align: center\;">Ends at Historic Brushy Mountain State Penitentiary with a FREE Concert</p>\n\n<p style="background-image: none\; background-position: initial\; background-size: initial\; background-repeat: initial\; background-attachment: initial\; background-origin: initial\; background-clip: initial\; border: none\; color: rgb(51\, 51\, 51)\; font-variant-numeric: inherit\; font-variant-east-asian: inherit\; font-variant-alternates: inherit\; font-variant-position: inherit\; font-variant-emoji: inherit\; font-stretch: inherit\; font-size: 14px\; line-height: 25px\; font-family: Montserrat\, sans-serif\; font-optical-sizing: inherit\; font-size-adjust: inherit\; font-kerning: inherit\; font-feature-settings: inherit\; font-variation-settings: inherit\; font-language-override: inherit\; margin: 1em 0px\; outline: none\; padding: 0px\; vertical-align: baseline\; letter-spacing: 0px\; text-align: center\;">$20 Entry Fee Per Hand - Card Pick-up 9:00 -11:00 am - Cards due by 5:00 pm</p>\n\n<p style="background-image: none\; background-position: initial\; background-size: initial\; background-repeat: initial\; background-attachment: initial\; background-origin: initial\; background-clip: initial\; border: none\; color: rgb(51\, 51\, 51)\; font-variant-numeric: inherit\; font-variant-east-asian: inherit\; font-variant-alternates: inherit\; font-variant-position: inherit\; font-variant-emoji: inherit\; font-stretch: inherit\; font-size: 14px\; line-height: 25px\; font-family: Montserrat\, sans-serif\; font-optical-sizing: inherit\; font-size-adjust: inherit\; font-kerning: inherit\; font-feature-settings: inherit\; font-variation-settings: inherit\; font-language-override: inherit\; margin: 1em 0px\; outline: none\; padding: 0px\; vertical-align: baseline\; letter-spacing: 0px\; text-align: center\;">$500 Cash Prize</p>\n
LOCATION:Starts at: Fort Southwest Point 1225 S. Kentucky St. Kingston\, TN 37763
UID:e.2172.25679
SEQUENCE:3
DTSTAMP:20260422T050511Z
URL:http://business.roanechamber.com/events/details/roam-r-poker-run-25679
END:VEVENT

END:VCALENDAR
