BEGIN:VCALENDAR
VERSION:2.0
PRODID:-//ChamberMaster//Event Calendar 2.0//EN
METHOD:PUBLISH
X-PUBLISHED-TTL:P3D
REFRESH-INTERVAL:P3D
CALSCALE:GREGORIAN
BEGIN:VEVENT
DTSTART:20260107T153000Z
DTEND:20260107T160000Z
X-MICROSOFT-CDO-ALLDAYEVENT:FALSE
SUMMARY:Ribbon Cutting Reloved by Ashley
DESCRIPTION:Ribbon Cutting - Reloved by Ashley\n\n\n\nJanuary 7\, 2026 - 10:30 am\n\n\n\nCome help us celebrate this new local business!
X-ALT-DESC;FMTTYPE=text/html:<br />\nRibbon Cutting - Reloved by Ashley<br />\n<br />\nJanuary 7\, 2026 - 10:30 am<br />\n<br />\nCome help us celebrate this new local business!
LOCATION:108 Old Patton Lane Harriman\, TN 37748
UID:e.2172.25672
SEQUENCE:3
DTSTAMP:20260422T064241Z
URL:http://business.roanechamber.com/events/details/ribbon-cutting-reloved-by-ashley-25672
END:VEVENT

END:VCALENDAR
