BEGIN:VCALENDAR
VERSION:2.0
PRODID:-//ChamberMaster//Event Calendar 2.0//EN
METHOD:PUBLISH
X-PUBLISHED-TTL:P3D
REFRESH-INTERVAL:P3D
CALSCALE:GREGORIAN
BEGIN:VEVENT
DTSTART:20260108T150000Z
DTEND:20260108T153000Z
X-MICROSOFT-CDO-ALLDAYEVENT:FALSE
SUMMARY:Ribbon Cutting - Botkin Construction / Botkin Cleaning Services
DESCRIPTION:Ribbon Cutting - Botkin Construction / Botkin Cleaning Services\n\n\n\nJanuary 8\, 2026 - 10 am\n\n\n\nCome join us in celebrating our new Chamber members!
X-ALT-DESC;FMTTYPE=text/html:<br />\nRibbon Cutting - Botkin Construction / Botkin Cleaning Services<br />\n<br />\nJanuary 8\, 2026 - 10 am<br />\n<br />\nCome join us in celebrating our new Chamber members!
LOCATION:422 W. Race St. Kingston\, TN 37763
UID:e.2172.25674
SEQUENCE:3
DTSTAMP:20260422T080617Z
URL:http://business.roanechamber.com/events/details/ribbon-cutting-botkin-construction-botkin-cleaning-services-25674
END:VEVENT

END:VCALENDAR
