BEGIN:VCALENDAR
VERSION:2.0
PRODID:-//ChamberMaster//Event Calendar 2.0//EN
METHOD:PUBLISH
X-PUBLISHED-TTL:P3D
REFRESH-INTERVAL:P3D
CALSCALE:GREGORIAN
BEGIN:VEVENT
DTSTART:20260116T160000Z
DTEND:20260116T180000Z
X-MICROSOFT-CDO-ALLDAYEVENT:FALSE
SUMMARY:Nursing Job Fair at Roane State Community College
DESCRIPTION:Nursing Job Fair \n\n\n\nJanuary 16\, 2026 - 11:00 am - 1:00 pm\n\n\n\nRoane State Community College Harriman Campus\n\n\n\nContact Deborah Porter at PORTERDC1@ROANESTATE.EDU
X-ALT-DESC;FMTTYPE=text/html:<br />\nNursing Job Fair&nbsp\;<br />\n<br />\nJanuary 16\, 2026 - 11:00 am - 1:00 pm<br />\n<br />\nRoane State Community College Harriman Campus<br />\n<br />\nContact Deborah Porter at PORTERDC1@ROANESTATE.EDU<br />\n&nbsp\;
LOCATION:O'Brien Theatre Roane State Community College 276 Patton Lane Harriman\, TN 37748
UID:e.2172.25675
SEQUENCE:3
DTSTAMP:20260422T065102Z
URL:http://business.roanechamber.com/events/details/nursing-job-fair-at-roane-state-community-college-25675
END:VEVENT

END:VCALENDAR
