BEGIN:VCALENDAR
VERSION:2.0
PRODID:-//ChamberMaster//Event Calendar 2.0//EN
METHOD:PUBLISH
X-PUBLISHED-TTL:P3D
REFRESH-INTERVAL:P3D
CALSCALE:GREGORIAN
BEGIN:VEVENT
DTSTART:20260510T150000Z
DTEND:20260511T010000Z
X-MICROSOFT-CDO-ALLDAYEVENT:FALSE
SUMMARY:Mother's Day at Shoney's
DESCRIPTION:Join us on May 10th starting at 11:00 AM and treat Mom to a meal she'll love! ?? ?? Good food\, sweet moments\, and time spent together  just the way Mother's Day should be.
X-ALT-DESC;FMTTYPE=text/html:Join us on May 10th starting at 11:00 AM and treat Mom to a meal she&rsquo\;ll love! ?? ?? Good food\, sweet moments\, and time spent together&hellip\; just the way Mother&rsquo\;s Day should be.
LOCATION:
UID:e.2172.25886
SEQUENCE:3
DTSTAMP:20260422T031925Z
URL:http://business.roanechamber.com/events/details/mother-s-day-at-shoney-s-25886
END:VEVENT

END:VCALENDAR
