BEGIN:VCALENDAR
VERSION:2.0
PRODID:-//ChamberMaster//Event Calendar 2.0//EN
METHOD:PUBLISH
X-PUBLISHED-TTL:P3D
REFRESH-INTERVAL:P3D
CALSCALE:GREGORIAN
BEGIN:VEVENT
DTSTART:20260214T010000Z
DTEND:20260214T040000Z
X-MICROSOFT-CDO-ALLDAYEVENT:FALSE
SUMMARY:Karaoke at the Smokehouse Kingston
DESCRIPTION:Karaoke at the Smokehouse Kingston\n\n\n\nFriday nights\, 8 pm - 11 pm
X-ALT-DESC;FMTTYPE=text/html:Karaoke at the Smokehouse Kingston<br />\n<br />\nFriday nights\, 8 pm - 11 pm
LOCATION:Smokehouse Kingston 708 W. Race Street Kingston\, TN 37763
UID:e.2172.18325
SEQUENCE:3
DTSTAMP:20260422T050903Z
URL:http://business.roanechamber.com/events/details/karaoke-at-the-smokehouse-kingston-02-13-2026-18325
END:VEVENT

END:VCALENDAR
