BEGIN:VCALENDAR
VERSION:2.0
PRODID:-//ChamberMaster//Event Calendar 2.0//EN
METHOD:PUBLISH
X-PUBLISHED-TTL:P3D
REFRESH-INTERVAL:P3D
CALSCALE:GREGORIAN
BEGIN:VEVENT
DTSTART:20260112T160000Z
DTEND:20260112T170000Z
X-MICROSOFT-CDO-ALLDAYEVENT:FALSE
SUMMARY:Johnny Windows Ribbon Cutting
DESCRIPTION:Celebrate with us as we cut the ribbon for Johnny Windows Exterior Solutions!
X-ALT-DESC;FMTTYPE=text/html:Celebrate with us as we cut the ribbon for Johnny Windows Exterior Solutions!
LOCATION:110 N. Roane St\, Harriman\, TN 37748
UID:e.2172.25684
SEQUENCE:3
DTSTAMP:20260422T080635Z
URL:http://business.roanechamber.com/events/details/johnny-windows-ribbon-cutting-25684
END:VEVENT

END:VCALENDAR
