BEGIN:VCALENDAR
VERSION:2.0
PRODID:-//ChamberMaster//Event Calendar 2.0//EN
METHOD:PUBLISH
X-PUBLISHED-TTL:P3D
REFRESH-INTERVAL:P3D
CALSCALE:GREGORIAN
BEGIN:VEVENT
DTSTART:20210618T220000Z
DTEND:20210619T020000Z
X-MICROSOFT-CDO-ALLDAYEVENT:FALSE
SUMMARY:Gala 2021
DESCRIPTION:Please join us for The Roane Alliance Gala on June 18\, 2021\n\nat the Barn at Maple Creek in Kingston!\n\n \n\nThe theme is Hollywood Glamour!\n\n \n\nThis is the primary annual fundraising event for the Alliance\, and now for the Chamber. The money raised will go towards funding the Roane Alliance and its programs that are designed to increase Roane County's economic prosperity\, while also shared with the Chamber and its programs that are designed to help and support local businesses grow. This event also provides a focus and a backdrop for networking and relationship-building opportunities locally\, regionally and nationally that helps facilitate growth in Roane County.\n\n \n\nFor sponsorship information or to reserve a table or tickets please contact us at 865-376-2093 ext  200 or RSVP@roanealliance.org. If you would like to donate to our live auction please let us know. In order to be listed as a donor in the program we need to receive the item(s) one week prior to the event.\n\nWe are so excited and appreciative about the huge response we have had from our sponsors\, and are so thankful to announce that several of our sponsors last year donated their sponsorships and have committed to sponsoring again this year.  We are calling them Gala Champions because the Roane Alliance would not have been able to get through 2020 without them\, not to mention they are all back on board as a 2021 Gala Sponsor! \n\nCNS Y-12\n\n\n\nEARL DUFF SUBARU\n\n\n\nENERGYSOLUTIONS\n\n\n\nORUD\n\n\n\nUT-BATTELLE/ORNL\n\n \n\nWe appreciate their continued support as sponsors at the 2021 event\, along with all of our other committed sponsors\, tables and ticket commitments.  Thank you for your support and patience!  Anyone who committed to buying tickets or tables will remain on the guest list unless you tell us otherwise and will have first priority for availability.   And its not too late to be a sponsor!  Space will be limited because of the unwavering support of our sponsors and regular attendees so if you are interested in sponsorship or a table  you will probably want to get on the list as soon as possible!\n\n \n\nTHANK YOU TO OUR SPONSORS!\n\nTitle\n\nEarl Duff Subaru\n\nEnergySolutions\n\nGriffin Insurance Agency / Auto-Owners Insurance\n\nORUD\n\nRoane County Government\n\nUT-Battelle/ORNL\n\n \n\nGold\n\nSimplyBank.\n\nRoane State Community College Foundation\n\n \n\nSilver\n\nCNS Y-12\n\nRoane Central Utility District\n\nRoane Medical Center\n\nRoane State Community College Foundation\n\nTVA - Kingston Fossil Plant\n\nUCOR\n\nTeijin Carbon America\, Inc.\n\n \n\nBronze\n\nCROET\n\nDesignSensory\n\nDuncan Family Automotive / Jerry Duncan Ford\n\nHarriman Utility Board\n\nMCLinc\n\nORNL Federal Credit Union\n\nPerma-Fix\n\nS&ME\n\nC.R. Barger & Sons\n\nOmni Family of Services\n\n \n\nSpecial Sponsors\n\nBerkshire Hathaway HomeServices Dean-Smith Realty\, Debby Hill Realtor - Photography & Booth Sponsor\n\nBobcat of Knoxville - Entertainment Sponsor\n\nGateway Spirits - Reception / Wine Sponsor
X-ALT-DESC;FMTTYPE=text/html:<p caret-color:="" color:="" helvetica="" padding:="" style="font-size: 16px\; box-sizing: border-box\; margin: 0px\; line-height: 1.3\; font-family: Oxygen\, Arial\, "><br />\n<span style="font-size:14px\;"><span style="font-family:arial\;"><strong style="box-sizing: border-box\;">Please join us for The Roane Alliance Gala on June 18\, 2021</strong><br style="box-sizing: border-box\;" />\n<strong style="box-sizing: border-box\;">at the Barn at Maple Creek in Kingston!</strong></span></span><br />\n&nbsp\;</p>\n\n<p caret-color:="" color:="" helvetica="" padding:="" style="font-size: 16px\; box-sizing: border-box\; margin: 0px\; line-height: 1.3\; font-family: Oxygen\, Arial\, "><span style="font-size:14px\;"><span style="font-family:arial\;">The theme is Hollywood Glamour!</span></span><br />\n&nbsp\;</p>\n\n<p caret-color:="" color:="" helvetica="" padding:="" style="font-size: 16px\; box-sizing: border-box\; margin: 0px\; line-height: 1.3\; font-family: Oxygen\, Arial\, "><span style="font-size:14px\;"><span style="font-family:arial\;">This is the primary annual fundraising event for the Alliance\, and now for the Chamber. The money raised will go towards funding the Roane Alliance and its programs that are designed to&nbsp\;increase&nbsp\;Roane County&rsquo\;s economic prosperity\, while also shared with the Chamber and its programs that are designed to help and support local businesses grow. This event&nbsp\;also provides a focus and a backdrop for networking and relationship-building opportunities locally\, regionally and nationally that helps facilitate growth in Roane County.</span></span><br />\n&nbsp\;</p>\n\n<p caret-color:="" color:="" helvetica="" padding:="" style="font-size: 16px\; box-sizing: border-box\; margin: 0px\; line-height: 1.3\; font-family: Oxygen\, Arial\, "><span style="font-size:14px\;"><span style="font-family:arial\;">For sponsorship information or to reserve a table or tickets please contact us at 865-376-2093 ext &nbsp\;200 or RSVP@roanealliance.org. If you would like to&nbsp\;donate to our live auction&nbsp\;please let us know. In order to be listed as a donor in the program we need to receive the item(s) one week prior to the event.</span></span></p>\n\n<p style="letter-spacing: 0px\; background-image: none\; border: none\; font-family: Montserrat\, sans-serif\; font-size: 14px\; font-stretch: inherit\; line-height: 25px\; margin: 1em 0px\; outline: none\; padding: 0px\; vertical-align: baseline\;"><span style="font-size:14px\;"><span style="font-family:arial\;">We are so excited and appreciative about the huge response we have had from our sponsors\, and are so thankful to announce that several of our sponsors last year donated their sponsorships and have committed to sponsoring again this year.&nbsp\; We are calling them&nbsp\;<strong style="background-image: none\; border: none\; color: inherit\; font-family: inherit\; font-size: inherit\; font-style: inherit\; font-variant-caps: inherit\; font-stretch: inherit\; line-height: inherit\; margin: 0px\; outline: none\; padding: 0px\; vertical-align: baseline\;">Gala Champions</strong>&nbsp\;because the Roane Alliance would not have been able to get through 2020 without them\, not to mention they are all back on board as a&nbsp\;<strong style="background-image: none\; border: none\; color: inherit\; font-family: inherit\; font-size: inherit\; font-style: inherit\; font-variant-caps: inherit\; font-stretch: inherit\; line-height: inherit\; margin: 0px\; outline: none\; padding: 0px\; vertical-align: baseline\;">2021 Gala Sponsor!&nbsp\;</strong></span></span></p>\n\n<h3 style="background-image: none\; border: none\; color: rgb(12\, 75\, 116)\; font-family: Montserrat\, sans-serif\; font-size: 16px\; font-weight: bold\; font-stretch: inherit\; line-height: 20px\; margin: 0px\; outline: none\; padding: 0px\; vertical-align: baseline\; text-transform: uppercase\; letter-spacing: 0.800000011920929px\; text-align: center\;"><span style="font-size:14px\;"><span style="font-family:arial\;"><span style="background-image: none\; border: none\; color: inherit\; font-style: inherit\; font-variant-caps: inherit\; font-weight: inherit\; font-stretch: inherit\; line-height: inherit\; margin: 0px\; outline: none\; padding: 0px\; vertical-align: baseline\; text-align: left\; letter-spacing: 0px\;">CNS Y-12</span></span></span></h3>\n\n<h3 style="background-image: none\; border: none\; color: rgb(12\, 75\, 116)\; font-family: Montserrat\, sans-serif\; font-size: 16px\; font-weight: bold\; font-stretch: inherit\; line-height: 20px\; margin: 0px\; outline: none\; padding: 0px\; vertical-align: baseline\; text-transform: uppercase\; letter-spacing: 0.800000011920929px\; text-align: center\;"><br />\n<span style="font-size:14px\;"><span style="font-family:arial\;"><span style="background-image: none\; border: none\; color: inherit\; font-style: inherit\; font-variant-caps: inherit\; font-weight: inherit\; font-stretch: inherit\; line-height: inherit\; margin: 0px\; outline: none\; padding: 0px\; vertical-align: baseline\; text-align: left\; letter-spacing: 0px\;">EARL DUFF SUBARU</span></span></span></h3>\n\n<h3 style="background-image: none\; border: none\; color: rgb(12\, 75\, 116)\; font-family: Montserrat\, sans-serif\; font-size: 16px\; font-weight: bold\; font-stretch: inherit\; line-height: 20px\; margin: 0px\; outline: none\; padding: 0px\; vertical-align: baseline\; text-transform: uppercase\; letter-spacing: 0.800000011920929px\; text-align: center\;"><br />\n<span style="font-size:14px\;"><span style="font-family:arial\;"><span style="background-image: none\; border: none\; color: inherit\; font-style: inherit\; font-variant-caps: inherit\; font-weight: inherit\; font-stretch: inherit\; line-height: inherit\; margin: 0px\; outline: none\; padding: 0px\; vertical-align: baseline\; text-align: left\; letter-spacing: 0px\;">ENERGY<span style="background-image: none\; border: none\; color: inherit\; font-style: italic\; font-variant-caps: inherit\; font-weight: inherit\; font-stretch: inherit\; line-height: inherit\; margin: 0px\; outline: none\; padding: 0px\; vertical-align: baseline\;">SOLUTIONS</span></span></span></span></h3>\n\n<h3 style="background-image: none\; border: none\; color: rgb(12\, 75\, 116)\; font-family: Montserrat\, sans-serif\; font-size: 16px\; font-weight: bold\; font-stretch: inherit\; line-height: 20px\; margin: 0px\; outline: none\; padding: 0px\; vertical-align: baseline\; text-transform: uppercase\; letter-spacing: 0.800000011920929px\; text-align: center\;"><br />\n<span style="font-size:14px\;"><span style="font-family:arial\;"><span style="background-image: none\; border: none\; color: inherit\; font-style: inherit\; font-variant-caps: inherit\; font-weight: inherit\; font-stretch: inherit\; line-height: inherit\; margin: 0px\; outline: none\; padding: 0px\; vertical-align: baseline\; text-align: left\; letter-spacing: 0px\;">ORUD</span></span></span></h3>\n\n<h3 style="background-image: none\; border: none\; color: rgb(12\, 75\, 116)\; font-family: Montserrat\, sans-serif\; font-size: 16px\; font-weight: bold\; font-stretch: inherit\; line-height: 20px\; margin: 0px\; outline: none\; padding: 0px\; vertical-align: baseline\; text-transform: uppercase\; letter-spacing: 0.800000011920929px\; text-align: center\;"><br />\n<span style="font-size:14px\;"><span style="font-family:arial\;"><span style="background-image: none\; border: none\; color: inherit\; font-style: inherit\; font-variant-caps: inherit\; font-weight: inherit\; font-stretch: inherit\; line-height: inherit\; margin: 0px\; outline: none\; padding: 0px\; vertical-align: baseline\; text-align: left\; letter-spacing: 0px\;">UT-BATTELLE/ORNL</span></span></span></h3>\n\n<p caret-color:="" color:="" helvetica="" padding:="" style="font-size: 16px\; box-sizing: border-box\; margin: 0px\; line-height: 1.3\; font-family: Oxygen\, Arial\, ">&nbsp\;</p>\n\n<p caret-color:="" color:="" helvetica="" padding:="" style="font-size: 16px\; box-sizing: border-box\; margin: 0px\; line-height: 1.3\;"><span style="font-family: Montserrat\, sans-serif\; font-size: 14px\; text-align: center\;"><span style="font-family:arial\;">We appreciate their continued support as sponsors at the 2021 event\, along with all of our other committed sponsors\, tables and ticket commitments.&nbsp\; Thank you for your support and patience!&nbsp\; Anyone&nbsp\;who committed to buying tickets or tables will remain on the guest list unless you tell us otherwise and will have first priority for availability.&nbsp\; &nbsp\;And its not too late to be a sponsor!&nbsp\; Space&nbsp\;will be limited because of the unwavering support of our sponsors and regular attendees so if you are interested in sponsorship or a table&nbsp\; you will probably want to get on the list as soon as possible!</span></span><br />\n&nbsp\;</p>\n\n<h4 style="font-size: 16px\; background-image: none\; border: none\; color: rgb(241\, 86\, 63)\; font-family: Montserrat\, sans-serif\; font-weight: bold\; font-stretch: inherit\; line-height: 20px\; margin: 3em 0px 1.5em\; outline: none\; padding: 0px\; vertical-align: baseline\; text-transform: uppercase\; letter-spacing: 0.800000011920929px\; text-align: center\;">THANK YOU TO OUR&nbsp\;SPONSORS!</h4>\n\n<p style="font-size: 16px\; box-sizing: border-box\; margin: 0px 0px 10px\; font-family: Oxygen\, sans-serif\; text-align: center\;"><span style="font-size:14px\;"><span style="font-family:arial\;"><strong style="box-sizing: border-box\;">Title</strong></span></span></p>\n\n<p style="font-size: 16px\; box-sizing: border-box\; margin: 0px 0px 10px\; font-family: Oxygen\, sans-serif\; text-align: center\;"><span style="font-size:14px\;"><span style="font-family:arial\;">Earl Duff Subaru</span></span></p>\n\n<p style="font-size: 16px\; box-sizing: border-box\; margin: 0px 0px 10px\; font-family: Oxygen\, sans-serif\; text-align: center\;"><span style="font-size:14px\;"><span style="font-family:arial\;">Energy<em style="box-sizing: border-box\;">Solutions</em></span></span></p>\n\n<p style="font-size: 16px\; box-sizing: border-box\; margin: 0px 0px 10px\; font-family: Oxygen\, sans-serif\; text-align: center\;"><span style="font-size:14px\;"><span style="font-family:arial\;">Griffin Insurance Agency / Auto-Owners Insurance</span></span></p>\n\n<p style="font-size: 16px\; box-sizing: border-box\; margin: 0px 0px 10px\; font-family: Oxygen\, sans-serif\; text-align: center\;"><span style="font-size:14px\;"><span style="font-family:arial\;">ORUD</span></span></p>\n\n<p style="font-size: 16px\; box-sizing: border-box\; margin: 0px 0px 10px\; font-family: Oxygen\, sans-serif\; text-align: center\;"><span style="font-size:14px\;"><span style="font-family:arial\;">Roane County Government</span></span></p>\n\n<p style="font-size: 16px\; box-sizing: border-box\; margin: 0px 0px 10px\; font-family: Oxygen\, sans-serif\; text-align: center\;"><span style="font-size:14px\;"><span style="font-family:arial\;">UT-Battelle/ORNL</span></span></p>\n\n<p style="font-size: 16px\; box-sizing: border-box\; margin: 0px 0px 10px\; font-family: Oxygen\, sans-serif\; text-align: center\;">&nbsp\;</p>\n\n<p style="font-size: 16px\; box-sizing: border-box\; margin: 0px 0px 10px\; font-family: Oxygen\, sans-serif\; text-align: center\;"><span style="font-size:14px\;"><span style="font-family:arial\;"><strong style="box-sizing: border-box\;">Gold</strong></span></span></p>\n\n<p style="font-size: 16px\; box-sizing: border-box\; margin: 0px 0px 10px\; font-family: Oxygen\, sans-serif\; text-align: center\;"><span style="font-size:14px\;"><span style="font-family:arial\;">SimplyBank.</span></span></p>\n\n<p style="font-size: 16px\; box-sizing: border-box\; margin: 0px 0px 10px\; font-family: Oxygen\, sans-serif\; text-align: center\;"><span style="font-size:14px\;"><span style="font-family:arial\;">Roane State Community College Foundation</span></span></p>\n\n<p style="font-size: 16px\; box-sizing: border-box\; margin: 0px 0px 10px\; font-family: Oxygen\, sans-serif\; text-align: center\;">&nbsp\;</p>\n\n<p style="font-size: 16px\; box-sizing: border-box\; margin: 0px 0px 10px\; font-family: Oxygen\, sans-serif\; text-align: center\;"><span style="font-size:14px\;"><span style="font-family:arial\;"><strong style="box-sizing: border-box\;">Silver</strong></span></span></p>\n\n<p style="font-size: 16px\; box-sizing: border-box\; margin: 0px 0px 10px\; font-family: Oxygen\, sans-serif\; text-align: center\;"><span style="font-size:14px\;"><span style="font-family:arial\;">CNS Y-12</span></span></p>\n\n<p style="font-size: 16px\; box-sizing: border-box\; margin: 0px 0px 10px\; font-family: Oxygen\, sans-serif\; text-align: center\;"><span style="font-size:14px\;"><span style="font-family:arial\;">Roane Central Utility District</span></span></p>\n\n<p style="font-size: 16px\; box-sizing: border-box\; margin: 0px 0px 10px\; font-family: Oxygen\, sans-serif\; text-align: center\;"><span style="font-size:14px\;"><span style="font-family:arial\;">Roane Medical Center</span></span></p>\n\n<p style="font-size: 16px\; box-sizing: border-box\; margin: 0px 0px 10px\; font-family: Oxygen\, sans-serif\; text-align: center\;"><span style="font-size:14px\;"><span style="font-family:arial\;">Roane State Community College Foundation</span></span></p>\n\n<p style="font-size: 16px\; box-sizing: border-box\; margin: 0px 0px 10px\; font-family: Oxygen\, sans-serif\; text-align: center\;"><span style="font-size:14px\;"><span style="font-family:arial\;">TVA - Kingston Fossil Plant</span></span></p>\n\n<p style="font-size: 16px\; box-sizing: border-box\; margin: 0px 0px 10px\; font-family: Oxygen\, sans-serif\; text-align: center\;"><span style="font-size:14px\;"><span style="font-family:arial\;">UCOR</span></span></p>\n\n<p style="font-size: 16px\; box-sizing: border-box\; margin: 0px 0px 10px\; font-family: Oxygen\, sans-serif\; text-align: center\;"><span style="font-size:14px\;"><span style="font-family:arial\;">Teijin Carbon America\, Inc.</span></span></p>\n\n<p style="font-size: 16px\; box-sizing: border-box\; margin: 0px 0px 10px\; font-family: Oxygen\, sans-serif\; text-align: center\;">&nbsp\;</p>\n\n<p style="font-size: 16px\; box-sizing: border-box\; margin: 0px 0px 10px\; font-family: Oxygen\, sans-serif\; text-align: center\;"><span style="font-size:14px\;"><span style="font-family:arial\;"><strong style="box-sizing: border-box\;">Bronze</strong></span></span></p>\n\n<p style="font-size: 16px\; box-sizing: border-box\; margin: 0px 0px 10px\; font-family: Oxygen\, sans-serif\; text-align: center\;"><span style="font-size:14px\;"><span style="font-family:arial\;">CROET</span></span></p>\n\n<p style="font-size: 16px\; box-sizing: border-box\; margin: 0px 0px 10px\; font-family: Oxygen\, sans-serif\; text-align: center\;"><span style="font-size:14px\;"><span style="font-family:arial\;">DesignSensory</span></span></p>\n\n<p style="font-size: 16px\; box-sizing: border-box\; margin: 0px 0px 10px\; font-family: Oxygen\, sans-serif\; text-align: center\;"><span style="font-size:14px\;"><span style="font-family:arial\;">Duncan Family Automotive / Jerry Duncan Ford</span></span></p>\n\n<p style="font-size: 16px\; box-sizing: border-box\; margin: 0px 0px 10px\; font-family: Oxygen\, sans-serif\; text-align: center\;"><span style="font-size:14px\;"><span style="font-family:arial\;">Harriman Utility Board</span></span></p>\n\n<p style="font-size: 16px\; box-sizing: border-box\; margin: 0px 0px 10px\; font-family: Oxygen\, sans-serif\; text-align: center\;"><span style="font-size:14px\;"><span style="font-family:arial\;">MCLinc</span></span></p>\n\n<p style="font-size: 16px\; box-sizing: border-box\; margin: 0px 0px 10px\; font-family: Oxygen\, sans-serif\; text-align: center\;"><span style="font-size:14px\;"><span style="font-family:arial\;">ORNL Federal Credit Union</span></span></p>\n\n<p style="font-size: 16px\; box-sizing: border-box\; margin: 0px 0px 10px\; font-family: Oxygen\, sans-serif\; text-align: center\;"><span style="font-size:14px\;"><span style="font-family:arial\;">Perma-Fix</span></span></p>\n\n<p style="font-size: 16px\; box-sizing: border-box\; margin: 0px 0px 10px\; font-family: Oxygen\, sans-serif\; text-align: center\;"><span style="font-size:14px\;"><span style="font-family:arial\;">S&amp\;ME</span></span></p>\n\n<p style="font-size: 16px\; box-sizing: border-box\; margin: 0px 0px 10px\; font-family: Oxygen\, sans-serif\; text-align: center\;"><span style="font-size:14px\;"><span style="font-family:arial\;">C.R. Barger &amp\; Sons</span></span></p>\n\n<p style="font-size: 16px\; box-sizing: border-box\; margin: 0px 0px 10px\; font-family: Oxygen\, sans-serif\; text-align: center\;"><span style="font-size:14px\;"><span style="font-family:arial\;">Omni Family of Services</span></span></p>\n\n<p style="font-size: 16px\; box-sizing: border-box\; margin: 0px 0px 10px\; font-family: Oxygen\, sans-serif\; text-align: center\;">&nbsp\;</p>\n\n<p style="font-size: 16px\; box-sizing: border-box\; margin: 0px 0px 10px\; font-family: Oxygen\, sans-serif\; text-align: center\;"><span style="font-size:14px\;"><span style="font-family:arial\;"><strong style="box-sizing: border-box\;">Special Sponsors</strong></span></span></p>\n\n<p style="font-size: 16px\; box-sizing: border-box\; margin: 0px 0px 10px\; font-family: Oxygen\, sans-serif\; text-align: center\;"><span style="font-size:14px\;"><span style="font-family:arial\;">Berkshire Hathaway HomeServices Dean-Smith Realty\, Debby Hill Realtor - Photography &amp\; Booth Sponsor</span></span></p>\n\n<p style="font-size: 16px\; box-sizing: border-box\; margin: 0px 0px 10px\; font-family: Oxygen\, sans-serif\; text-align: center\;"><span style="font-size:14px\;"><span style="font-family:arial\;">Bobcat of Knoxville - Entertainment Sponsor</span></span></p>\n\n<p style="font-size: 16px\; box-sizing: border-box\; margin: 0px 0px 10px\; font-family: Oxygen\, sans-serif\; text-align: center\;"><span style="font-size:14px\;"><span style="font-family:arial\;">Gateway Spirits -&nbsp\;Reception / Wine Sponsor</span></span></p>\n\n<p caret-color:="" color:="" helvetica="" padding:="" style="font-size: 16px\; box-sizing: border-box\; margin: 0px\; line-height: 1.3\; text-align: center\;">&nbsp\;</p>\n
LOCATION:The Barn at Maple Creek 107 Gallaher Road Kingston\, TN 37763
UID:e.2172.8681
SEQUENCE:3
DTSTAMP:20260424T224907Z
URL:http://business.roanechamber.com/events/details/gala-2021-8681
END:VEVENT

END:VCALENDAR
