BEGIN:VCALENDAR
VERSION:2.0
PRODID:-//ChamberMaster//Event Calendar 2.0//EN
METHOD:PUBLISH
X-PUBLISHED-TTL:P3D
REFRESH-INTERVAL:P3D
CALSCALE:GREGORIAN
BEGIN:VEVENT
DTSTART:20260122T223000Z
DTEND:20260123T013000Z
X-MICROSOFT-CDO-ALLDAYEVENT:FALSE
SUMMARY:Exploring AI through ChatGPT
DESCRIPTION:Exploring AI through ChatGPT\n\n\n\nHarriman Campus - January 22\, 2026 - 5:30 pm - 8:30 pm \n\nOak Ridge Campus - February 10\, 2026 - 5:30 pm - 8:30 pm\n\n\n\nDelve into the world of Artificial Intelligence (AI) and specifically focus on ChatGPT\, a cutting-edge language model.  You will gain insights into how AI technologies\, like ChatGPT\, can enhance your professional career and improve customer interactions.\n\n\n\nRegistration fee is $49 per person\n\n\n\nFor registration & Information contact Missy Cooper at coopermj2@roanestate.edu
X-ALT-DESC;FMTTYPE=text/html:<br />\nExploring AI through ChatGPT<br />\n<br />\nHarriman Campus - January 22\, 2026 - 5:30 pm - 8:30 pm&nbsp\;<br />\nOak Ridge Campus - February 10\, 2026 - 5:30 pm - 8:30 pm<br />\n<br />\nDelve into the world of Artificial Intelligence (AI) and specifically focus on ChatGPT\, a cutting-edge language model.&nbsp\; You will gain insights into how AI technologies\, like ChatGPT\, can enhance your professional career and improve customer interactions.<br />\n<br />\nRegistration fee is $49 per person<br />\n<br />\nFor registration &amp\; Information contact Missy Cooper at coopermj2@roanestate.edu<br />\n<br />\n&nbsp\;
LOCATION:Roane State Community College Harriman Campus 276 Patton Lane Harriman\, TN 37748
UID:e.2172.25682
SEQUENCE:3
DTSTAMP:20260422T064036Z
URL:http://business.roanechamber.com/events/details/exploring-ai-through-chatgpt-25682
END:VEVENT

END:VCALENDAR
