BEGIN:VCALENDAR
VERSION:2.0
PRODID:-//ChamberMaster//Event Calendar 2.0//EN
METHOD:PUBLISH
X-PUBLISHED-TTL:P3D
REFRESH-INTERVAL:P3D
CALSCALE:GREGORIAN
BEGIN:VEVENT
DTSTART:20260101T010000Z
DTEND:20260101T170000Z
X-MICROSOFT-CDO-ALLDAYEVENT:FALSE
SUMMARY:Ethan Vincil Band Acoustic Performance at Blue Springs Marina Crows Nest
DESCRIPTION:Ethan Vincil Band Acoustic Performance \n\n\n\nDecember 31\, 2025 - 8 pm - 12 am\n\n\n\nRing in the new year with some awesome music by Ethan Vincil Band at the Blue Springs Marina Crows Nest!
X-ALT-DESC;FMTTYPE=text/html:Ethan Vincil Band Acoustic Performance&nbsp\;<br />\n<br />\nDecember 31\, 2025 - 8 pm - 12 am<br />\n<br />\nRing in the new year with some awesome music by Ethan Vincil Band at the Blue Springs Marina Crows Nest!&nbsp\;<br />\n<br />\n&nbsp\;
LOCATION:3952 River Road Ten Mile\, TN 37880
UID:e.2172.25671
SEQUENCE:3
DTSTAMP:20260422T065102Z
URL:http://business.roanechamber.com/events/details/ethan-vincil-band-acoustic-performance-at-blue-springs-marina-crows-nest-25671
END:VEVENT

END:VCALENDAR
