BEGIN:VCALENDAR
VERSION:2.0
PRODID:-//ChamberMaster//Event Calendar 2.0//EN
METHOD:PUBLISH
X-PUBLISHED-TTL:P3D
REFRESH-INTERVAL:P3D
CALSCALE:GREGORIAN
BEGIN:VEVENT
DTSTART:20260111T000000Z
DTEND:20260111T013000Z
X-MICROSOFT-CDO-ALLDAYEVENT:FALSE
SUMMARY:"Elvis: In Person" Starring Matt Stone & The TEC Band
DESCRIPTION:HE GREATEST ELVIS CONCERT EXPERIENCE IN AMERICA\n\n\n\n\n GET READY ELVIS FANS \n\nThe GREATEST ELVIS CONCERT EXPERIENCE IN AMERICA is coming to ROCK The Princess Theatre on January 10th!\n\nInternationally recognized by Graceland and the Elvis Presley Estate\, the show's star\, Matt Stone\, performs the CLOSEST THING to the King in history!\n\nWith so many other tribute artists on the market\, there's an important distinction between Matt Stone and many of his competitors: Matt portrays the King in his prime... the way he should be remembered!\n\nHe has even earned the approval of Elvis' friends and family\, who have said:\n\n"When I heard [Matt]  now if I close my eyes that's Elvis. It touched my heart. The only person I ever heard sing like that was my brother\, and [Matt] was real close SCARY  that's how close it was."\n\nBilly Stanley (Elvis' Step Brother)\n\n"Matt is incredibly gifted & handsome\, with incredible energy and sex appeal."\n\nJoyce Bova (Longtime Elvis Girlfriend)\n\nMatt has even been heard on SiriusXM's ELVIS RADIO!\n\nWith most fans being disappointed with cheesy Elvis impersonators\, the "ELVIS: In Person" concert is changing the game!\n\nBacked by the TEC Band\, this INCREDIBLE CONCERT is sure to be an energetic showstopper for all ages!
X-ALT-DESC;FMTTYPE=text/html:<div class="undefined" style="margin: 0px\; padding: 0px\; box-sizing: border-box\; color: rgb(57\, 54\, 79)\; font-family: &quot\;Neue Plak&quot\;\, -apple-system\, BlinkMacSystemFont\, Roboto\, &quot\;Helvetica Neue&quot\;\, Helvetica\, Tahoma\, Arial\, sans-serif\; font-size: 14px\; background-color: rgb(255\, 255\, 255)\;">\n<div class="summary" style="margin: 0px 0px 23.994px\; padding: 0px\; box-sizing: border-box\; color: rgb(88\, 81\, 99)\; font-variant-numeric: normal\; font-variant-east-asian: normal\; font-variant-alternates: normal\; font-size-adjust: none\; font-kerning: auto\; font-optical-sizing: auto\; font-feature-settings: normal\; font-variation-settings: normal\; font-variant-position: normal\; font-variant-emoji: normal\; font-stretch: normal\; font-size: 18px\; line-height: 1.333\; font-family: &quot\;Neue Plak&quot\;\; letter-spacing: 0.1px\; word-break: break-word\;"><span style="font-size:14px\;">HE GREATEST ELVIS CONCERT EXPERIENCE IN AMERICA</span></div>\n</div>\n\n<div class="structured-content-rich-text" style="margin: 0px\; padding: 0px\; box-sizing: border-box\; text-rendering: optimizelegibility\; color: rgb(57\, 54\, 79)\; font-family: &quot\;Neue Plak&quot\;\, -apple-system\, BlinkMacSystemFont\, Roboto\, &quot\;Helvetica Neue&quot\;\, Helvetica\, Tahoma\, Arial\, sans-serif\; font-size: 14px\; background-color: rgb(255\, 255\, 255)\;">\n<div class="eds-text--left" style="margin: 0px\; padding: 0px\; box-sizing: border-box\;">\n<p style="margin: 12px 0px\; padding: 0px\; box-sizing: border-box\; color: rgb(88\, 81\, 99)\; font-size: 16px\;"><span style="font-size:14px\;">&#128680\;GET READY ELVIS FANS&#128680\;</span></p>\n\n<p style="margin: 12px 0px\; padding: 0px\; box-sizing: border-box\; color: rgb(88\, 81\, 99)\; font-size: 16px\;"><span style="font-size: 14px\;">The GREATEST ELVIS CONCERT EXPERIENCE IN AMERICA is coming to ROCK The Princess Theatre on January 10th!</span></p>\n\n<p style="margin: 12px 0px\; padding: 0px\; box-sizing: border-box\; color: rgb(88\, 81\, 99)\; font-size: 16px\;"><span style="font-size: 14px\;">Internationally recognized by Graceland and the Elvis Presley Estate\, the show&rsquo\;s star\, Matt Stone\, performs the CLOSEST THING to the King in history!</span></p>\n\n<p style="margin: 12px 0px\; padding: 0px\; box-sizing: border-box\; color: rgb(88\, 81\, 99)\; font-size: 16px\;"><span style="font-size:14px\;">With so many other tribute artists on the market\, there&rsquo\;s an important distinction between Matt Stone and many of his competitors: Matt portrays the King in his prime... the way he should be remembered!</span></p>\n\n<p style="margin: 12px 0px\; padding: 0px\; box-sizing: border-box\; color: rgb(88\, 81\, 99)\; font-size: 16px\;"><span style="font-size: 14px\;">He has even earned the approval of Elvis&rsquo\; friends and family\, who have said:</span></p>\n\n<p style="margin: 12px 0px\; padding: 0px\; box-sizing: border-box\; color: rgb(88\, 81\, 99)\; font-size: 16px\;"><span style="font-size:14px\;">&ldquo\;When I heard [Matt]&hellip\; now if I close my eyes that&rsquo\;s Elvis. It touched my heart. The only person I ever heard sing like that was my brother\, and [Matt] was real close&mdash\;SCARY&mdash\; that&rsquo\;s how close it was.&rdquo\;</span></p>\n\n<p style="margin: 12px 0px\; padding: 0px\; box-sizing: border-box\; color: rgb(88\, 81\, 99)\; font-size: 16px\;"><span style="font-size:14px\;">Billy Stanley (Elvis&#39\; Step Brother)</span></p>\n\n<p style="margin: 12px 0px\; padding: 0px\; box-sizing: border-box\; color: rgb(88\, 81\, 99)\; font-size: 16px\;"><span style="font-size: 14px\;">&ldquo\;Matt is incredibly gifted &amp\; handsome\, with incredible energy and sex appeal.&rdquo\;</span></p>\n\n<p style="margin: 12px 0px\; padding: 0px\; box-sizing: border-box\; color: rgb(88\, 81\, 99)\; font-size: 16px\;"><span style="font-size:14px\;">Joyce Bova (Longtime Elvis Girlfriend)</span></p>\n\n<p style="margin: 12px 0px\; padding: 0px\; box-sizing: border-box\; color: rgb(88\, 81\, 99)\; font-size: 16px\;"><span style="font-size: 14px\;">Matt has even been heard on SiriusXM&#39\;s ELVIS RADIO!</span></p>\n\n<p style="margin: 12px 0px\; padding: 0px\; box-sizing: border-box\; color: rgb(88\, 81\, 99)\; font-size: 16px\;"><span style="font-size: 14px\;">With most fans being disappointed with cheesy Elvis impersonators\, the &ldquo\;ELVIS: In Person&rdquo\; concert is changing the game!</span></p>\n\n<p style="margin: 12px 0px\; padding: 0px\; box-sizing: border-box\; color: rgb(88\, 81\, 99)\; font-size: 16px\;"><span style="font-size: 14px\;">Backed by the TEC Band\, this INCREDIBLE CONCERT is sure to be an energetic showstopper for all ages!</span></p>\n</div>\n</div>\n<br />\n&nbsp\;
LOCATION:Princess Theatre 421 N. Roane St. Harriman\, TN 37748
UID:e.2172.25639
SEQUENCE:3
DTSTAMP:20260422T081254Z
URL:http://business.roanechamber.com/events/details/elvis-in-person-starring-matt-stone-the-tec-band-25639
END:VEVENT

END:VCALENDAR
