BEGIN:VCALENDAR
VERSION:2.0
PRODID:-//ChamberMaster//Event Calendar 2.0//EN
METHOD:PUBLISH
X-PUBLISHED-TTL:P3D
REFRESH-INTERVAL:P3D
CALSCALE:GREGORIAN
BEGIN:VEVENT
DTSTART:20260222T000000Z
DTEND:20260222T020000Z
X-MICROSOFT-CDO-ALLDAYEVENT:FALSE
SUMMARY:Daddy Daughter Dance
DESCRIPTION:The Rotary Club of Harriman Daddy Daughter Dance\n\n\n\nSaturday\, February 21\, 2026\n\n7 pm - 9 pm\n\n\n\nTickets on sale January 12.\n\n\n\nCreate memories that last a lifetime at the Daddy Daughter Dance--a special evening dedicated to celebrating the bond between fathers\, father figures\, and their daughters!\n\n\n\nDate Saturday\, February 21\n\nTime: 7 pm - 9 pm\n\nTickets: On sale January 12\n\nPresented by: Rotary Club of Harriman\, TN \n\n\n\nWhether it's your first dance or a cherished tradition\, the Daddy Daughter Dance is a night of joy\, connection\, and community ----Harriman style.
X-ALT-DESC;FMTTYPE=text/html:<br />\nThe Rotary Club of Harriman Daddy Daughter Dance<br />\n<br />\nSaturday\, February 21\, 2026<br />\n7 pm - 9 pm<br />\n<br />\nTickets on sale January 12.<br />\n<br />\nCreate memories that last a lifetime at the Daddy Daughter Dance--a special evening dedicated to celebrating the bond between fathers\, father figures\, and their daughters!<br />\n<br />\nDate Saturday\, February 21<br />\nTime: 7 pm - 9 pm<br />\nTickets: On sale January 12<br />\nPresented by: Rotary Club of Harriman\, TN&nbsp\;<br />\n<br />\nWhether it&#39\;s your first dance or a cherished tradition\, the Daddy Daughter Dance is a night of joy\, connection\, and community ----Harriman style.&nbsp\;
LOCATION:Roane State Community College 276 Patton Lane Harriman\, TN 37748
UID:e.2172.25690
SEQUENCE:3
DTSTAMP:20260422T050419Z
URL:http://business.roanechamber.com/events/details/daddy-daughter-dance-25690
END:VEVENT

END:VCALENDAR
