BEGIN:VCALENDAR
VERSION:2.0
PRODID:-//ChamberMaster//Event Calendar 2.0//EN
METHOD:PUBLISH
X-PUBLISHED-TTL:P3D
REFRESH-INTERVAL:P3D
CALSCALE:GREGORIAN
BEGIN:VEVENT
DTSTART:20260225T130000Z
DTEND:20260225T140000Z
X-MICROSOFT-CDO-ALLDAYEVENT:FALSE
SUMMARY:CHAMBER MEMBER HOSTED :Coffee Networking - Renaissance Terrace
DESCRIPTION:Coffee Networking with Renaissance Terrace\n\n\n\nStart your morning by networking with your community. We will also be having a ribbon cutting and celebration of this business as our newest Chamber Champion. Don't miss out!
X-ALT-DESC;FMTTYPE=text/html:Coffee Networking with Renaissance Terrace<br />\n<br />\nStart your morning by networking with your community. We will also be having a ribbon cutting and celebration of this business as our newest Chamber Champion. Don&#39\;t miss out!<br />\n<br />\n<br />\n<br />\n&nbsp\;
LOCATION:Renaissance Terrace 257 Patton Lane Harriman\, TN 37748
UID:e.2172.22829
SEQUENCE:3
DTSTAMP:20260422T063621Z
URL:http://business.roanechamber.com/events/details/chamber-member-hosted-coffee-networking-renaissance-terrace-22829
END:VEVENT

END:VCALENDAR
