BEGIN:VCALENDAR
VERSION:2.0
PRODID:-//ChamberMaster//Event Calendar 2.0//EN
METHOD:PUBLISH
X-PUBLISHED-TTL:P3D
REFRESH-INTERVAL:P3D
CALSCALE:GREGORIAN
BEGIN:VEVENT
DTSTART:20260325T153000Z
DTEND:20260325T170000Z
X-MICROSOFT-CDO-ALLDAYEVENT:FALSE
SUMMARY:CHAMBER HOSTED - New Member Luncheon Presented by Knoxville TVA Employees Credit Union
DESCRIPTION:The New Member Lunch & Open House Networking Event hosted by the Roane County Chamber of Commerce and presented by Knoxville TVA Employees Credit Union\, is designed to formally welcome and showcase new Chamber members in a professional yet relaxed setting.\n\nThe event begins with a structured luncheon at 11:30 AM\, where attendees enjoy a meal while networking with fellow business leaders and community partners. During the lunch program\, selected new members are introduced and invited to share a brief overview of their business\, including who they are\, what they offer\, and how they serve the community. This spotlight moment allows each featured business to gain visibility and establish credibility within the Chamber network.\n\nFollowing the luncheon\, the event transitions into an open house-style networking session. This portion provides a more informal environment where attendees can connect one-on-one\, exchange business cards\, explore potential collaborations\, and build meaningful relationships.\n\nOverall\, the New Member Lunch serves three primary purposes:\n\n\n	\n	Recognition   Officially welcoming and highlighting new members\n	\n	\n	Exposure   Providing a platform to present businesses to the Chamber community\n	\n	\n	Connection   Encouraging relationship-building through structured and open networking\n	\n\n\nThis initiative strengthens engagement among members while creating immediate value for new businesses joining the Chamber.
X-ALT-DESC;FMTTYPE=text/html:<p data-end="210" data-start="0">The <strong data-end="54" data-start="4">New Member Lunch &amp\; Open House Networking Event</strong> hosted by the <span class="hover:entity-accent entity-underline inline cursor-pointer align-baseline">Roane County Chamber of Commerce and presented by Knoxville TVA Employees&nbsp\;Credit Union\,</span> is designed to formally welcome and showcase new Chamber members in a professional yet relaxed setting.</p>\n\n<p data-end="686" data-start="212">The event begins with a structured luncheon at 11:30 AM\, where attendees enjoy a meal while networking with fellow business leaders and community partners. During the lunch program\, selected new members are introduced and invited to share a brief overview of their business\, including who they are\, what they offer\, and how they serve the community. This spotlight moment allows each featured business to gain visibility and establish credibility within the Chamber network.</p>\n\n<p data-end="963" data-start="688">Following the luncheon\, the event transitions into an open house-style networking session. This portion provides a more informal environment where attendees can connect one-on-one\, exchange business cards\, explore potential collaborations\, and build meaningful relationships.</p>\n\n<p data-end="1025" data-start="965">Overall\, the New Member Lunch serves three primary purposes:</p>\n\n<ul data-end="1279" data-start="1027">\n	<li data-end="1098" data-start="1027">\n	<p data-end="1098" data-start="1029"><strong data-end="1044" data-start="1029">Recognition</strong> &ndash\; Officially welcoming and highlighting new members</p>\n	</li>\n	<li data-end="1185" data-start="1099">\n	<p data-end="1185" data-start="1101"><strong data-end="1113" data-start="1101">Exposure</strong> &ndash\; Providing a platform to present businesses to the Chamber community</p>\n	</li>\n	<li data-end="1279" data-start="1186">\n	<p data-end="1279" data-start="1188"><strong data-end="1202" data-start="1188">Connection</strong> &ndash\; Encouraging relationship-building through structured and open networking</p>\n	</li>\n</ul>\n\n<p data-end="1404" data-is-last-node="" data-is-only-node="" data-start="1281">This initiative strengthens engagement among members while creating immediate value for new businesses joining the Chamber.</p>\n
LOCATION:The Jim Henry Event Center
UID:e.2172.25850
SEQUENCE:3
DTSTAMP:20260422T034141Z
URL:http://business.roanechamber.com/events/details/chamber-hosted-new-member-luncheon-presented-by-knoxville-tva-employees-credit-union-25850
END:VEVENT

END:VCALENDAR
