BEGIN:VCALENDAR
VERSION:2.0
PRODID:-//ChamberMaster//Event Calendar 2.0//EN
METHOD:PUBLISH
X-PUBLISHED-TTL:P3D
REFRESH-INTERVAL:P3D
CALSCALE:GREGORIAN
BEGIN:VEVENT
DTSTART:20260505T160000Z
DTEND:20260505T170000Z
X-MICROSOFT-CDO-ALLDAYEVENT:FALSE
SUMMARY:Chamber Ambassador Meeting
DESCRIPTION:Monthly Chamber Ambassador Meeting
X-ALT-DESC;FMTTYPE=text/html:Monthly Chamber Ambassador Meeting&nbsp\;&nbsp\;&nbsp\;&nbsp\;
LOCATION:The Roane Alliance 1209 N. Kentucky Street Kingston\, TN 37763
UID:e.2172.3395
SEQUENCE:3
DTSTAMP:20260422T014905Z
URL:http://business.roanechamber.com/events/details/chamber-ambassador-meeting-05-05-2026-3395
END:VEVENT

END:VCALENDAR
