BEGIN:VCALENDAR
VERSION:2.0
PRODID:-//ChamberMaster//Event Calendar 2.0//EN
METHOD:PUBLISH
X-PUBLISHED-TTL:P3D
REFRESH-INTERVAL:P3D
CALSCALE:GREGORIAN
BEGIN:VEVENT
DTSTART:20260127T223000Z
DTEND:20260128T013000Z
X-MICROSOFT-CDO-ALLDAYEVENT:FALSE
SUMMARY:CANVA 101 Workshop
DESCRIPTION:Canva 101 Workshop\n\n\n\nJanuary 27\, 2026 - Roane State Community College Oak Ridge Campus\n\n\n\nFebruary 19\, 2026 - Roane State Community College Harriman Campus\n\n\n\nCost $49\n\n\n\nCanva 101 help professionals understand the benefits of the Canva program and how it is a resource for all companies and brands. Participants will learn about branding\, what makes a brand\, and why obeying your brand guidelines are important.\n\n\n\nWhat you'll learn:\n\n	The difference between free vs paid versions of Canva \n	How to create flyers\, social media content\, and landing pages\n	Basic understanding of Brand marketing\n\nJeff Fyke - Over 10 years of experience with graphic design\, photography\, videography\,\, and marketing\,. President Elect for the Knoxville Chapter of the American Marketing Association.   Bachelor of Science from East Tennessee State University.  Certified Multi-media Arts Professional from Tennessee Technological University.
X-ALT-DESC;FMTTYPE=text/html:<br />\nCanva 101 Workshop<br />\n<br />\nJanuary 27\, 2026 - Roane State Community College Oak Ridge Campus<br />\n<br />\nFebruary 19\, 2026 - Roane State Community College Harriman Campus<br />\n<br />\nCost $49<br />\n<br />\nCanva 101 help professionals understand the benefits of the Canva program and how it is a resource for all companies and brands. Participants will learn about branding\, what makes a brand\, and why obeying your brand guidelines are important.<br />\n<br />\nWhat you&#39\;ll learn:\n<ul>\n	<li>The difference between free vs paid versions of Canva&nbsp\;</li>\n	<li>How to create flyers\, social media content\, and landing pages</li>\n	<li>Basic understanding of Brand marketing</li>\n</ul>\nJeff Fyke - Over 10 years of experience with graphic design\, photography\, videography\,\, and marketing\,. President Elect for the Knoxville Chapter of the American Marketing Association.&nbsp\; &nbsp\;Bachelor of Science from East Tennessee State University.&nbsp\; Certified Multi-media Arts Professional from Tennessee Technological University.
LOCATION:Roane State Community College - Oak Ridge Campus 721 Briarcliff Ave. Oak Ridge\, TN 37830
UID:e.2172.25676
SEQUENCE:3
DTSTAMP:20260422T080404Z
URL:http://business.roanechamber.com/events/details/canva-101-workshop-25676
END:VEVENT

END:VCALENDAR
