BEGIN:VCALENDAR
VERSION:2.0
PRODID:-//ChamberMaster//Event Calendar 2.0//EN
METHOD:PUBLISH
X-PUBLISHED-TTL:P3D
REFRESH-INTERVAL:P3D
CALSCALE:GREGORIAN
BEGIN:VEVENT
DTSTART:20260108T220000Z
DTEND:20260108T230000Z
X-MICROSOFT-CDO-ALLDAYEVENT:FALSE
SUMMARY:Business on Tap - RoCo Social
DESCRIPTION:Business on Tap - RoCo Social\n\n\n\nJanuary 8\, 2026 - 5:00 pm - 6:00 pm\n\n\n\nCome join us and network!
X-ALT-DESC;FMTTYPE=text/html:<br />\nBusiness on Tap - RoCo Social<br />\n<br />\nJanuary 8\, 2026 - 5:00 pm - 6:00 pm<br />\n<br />\nCome join us and network!
LOCATION:301 N. Roane St. Harriman\, TN 37748
UID:e.2172.25673
SEQUENCE:3
DTSTAMP:20260422T081423Z
URL:http://business.roanechamber.com/events/details/business-on-tap-roco-social-25673
END:VEVENT

END:VCALENDAR
