BEGIN:VCALENDAR
VERSION:2.0
PRODID:-//ChamberMaster//Event Calendar 2.0//EN
METHOD:PUBLISH
X-PUBLISHED-TTL:P3D
REFRESH-INTERVAL:P3D
CALSCALE:GREGORIAN
BEGIN:VEVENT
DTSTART:20260202T190000Z
DTEND:20260202T193000Z
X-MICROSOFT-CDO-ALLDAYEVENT:FALSE
SUMMARY:Business of the Month - Chase Drug & Clinical Services
DESCRIPTION:Come help us celebrate our February Business of the Month - Chase Drug & Clinical Services in Harriman..
X-ALT-DESC;FMTTYPE=text/html:<br />\nCome help us celebrate our February Business of the Month - Chase Drug &amp\; Clinical Services in Harriman..
LOCATION:Chase Drug & Clinical Services 319 N. Roane St. Harriman\, TN 37748
UID:e.2172.25711
SEQUENCE:3
DTSTAMP:20260422T051937Z
URL:http://business.roanechamber.com/events/details/business-of-the-month-chase-drug-clinical-services-25711
END:VEVENT

END:VCALENDAR
